BEGIN:VCALENDAR
PRODID:-//github.com/rianjs/ical.net//NONSGML ical.net 4.0//EN
VERSION:2.0
BEGIN:VEVENT
DESCRIPTION:Gothenburg has\, for several decades\, established itself as o
 ne of the world&rsquo\;s most influential cities in hard rock and metal. 
 That is why Liseberg are proud to present the next act in the 2026 stage 
 programme: the legendary British heavy metal band Saxon. On 3 July at 8 p
 m\, they will take to Stora Scenen.&nbsp\; Support: The Poodles at 6 pm.
DTEND:20260703T190000Z
DTSTAMP:20260421T053839Z
DTSTART:20260703T160000Z
SEQUENCE:0
SUMMARY:Saxon + support: The Poodles
UID:b165750b-e660-48a2-b530-912cfeebdbe9
URL:https://www.liseberg.se/en/park/events/all-events/saxon-support-the-po
 odles/
BEGIN:VALARM
ACTION:DISPLAY
SUMMARY:Saxon + support: The Poodles
TRIGGER:-PT2H
END:VALARM
END:VEVENT
END:VCALENDAR
