BEGIN:VCALENDAR
PRODID:-//github.com/rianjs/ical.net//NONSGML ical.net 4.0//EN
VERSION:2.0
BEGIN:VEVENT
DESCRIPTION:With over four decades of uncompromising energy\, social criti
 que and mosh‑pit history behind them\, the American crossover legends Sui
 cidal Tendencies bring their iconic genre mix to the heart of Gothenburg 
 &ndash\; in what will also be the band&rsquo\;s first show in Sweden in t
 en years.
DTEND:20260630T210000Z
DTSTAMP:20260421T053755Z
DTSTART:20260630T180000Z
SEQUENCE:0
SUMMARY:Suicidal Tendencies
UID:0d2655d1-9435-4fa5-8369-14dfcbd2a953
URL:https://www.liseberg.se/en/park/events/all-events/suicidal-tendencies/
BEGIN:VALARM
ACTION:DISPLAY
SUMMARY:Suicidal Tendencies
TRIGGER:-PT2H
END:VALARM
END:VEVENT
END:VCALENDAR
