BEGIN:VCALENDAR
PRODID:-//github.com/rianjs/ical.net//NONSGML ical.net 4.0//EN
VERSION:2.0
BEGIN:VEVENT
DESCRIPTION:They are one of Australia&rsquo\;s most visionary musical proj
 ects and have captivated millions with their euphoric fusion of electroni
 c pop and surreal stage performances. It has been fifteen years since the
 y last visited Sweden\, and on 3 June at 8 pm the cosmic pop duo Empire o
 f the Sun will finally take to Stora Scenen.
DTEND:20260603T210000Z
DTSTAMP:20260421T054538Z
DTSTART:20260603T180000Z
SEQUENCE:0
SUMMARY:Empire of the Sun
UID:08f8102e-640a-4bd7-a552-6ce0ffc9f245
URL:https://www.liseberg.se/en/park/events/all-events/empire-of-the-sun/
BEGIN:VALARM
ACTION:DISPLAY
SUMMARY:Empire of the Sun
TRIGGER:-PT2H
END:VALARM
END:VEVENT
END:VCALENDAR
