BEGIN:VCALENDAR
PRODID:-//github.com/rianjs/ical.net//NONSGML ical.net 4.0//EN
VERSION:2.0
BEGIN:VEVENT
DESCRIPTION:This summer\, Dina &Ouml\;gon will take to Stora Scenen at Lis
 eberg for a long-awaited concert evening where the band&rsquo\;s unique b
 lend of euphoria\, melancholy\, and genre-defying expression is given ful
 l scope.
DTEND:20260801T210000Z
DTSTAMP:20260421T053951Z
DTSTART:20260801T180000Z
SEQUENCE:0
SUMMARY:Dina Ögon
UID:e9e4bbb6-e31d-42ed-ab2c-2a5a8ec32edd
URL:https://www.liseberg.se/en/park/events/all-events/dina-ogon/
BEGIN:VALARM
ACTION:DISPLAY
SUMMARY:Dina Ögon
TRIGGER:-PT2H
END:VALARM
END:VEVENT
END:VCALENDAR
