BEGIN:VCALENDAR
PRODID:-//github.com/rianjs/ical.net//NONSGML ical.net 4.0//EN
VERSION:2.0
BEGIN:VEVENT
DESCRIPTION:With her unique blend of maximalism\, sensitivity and complete
  stage presence\, Daniela Rathana will deliver a long‑awaited performance
  at Liseberg that will pulse with energy and intimacy. On 12 August\, she
  will take to the stage at Stora Scenen.
DTEND:20260812T210000Z
DTSTAMP:20260421T054255Z
DTSTART:20260812T180000Z
SEQUENCE:0
SUMMARY:Daniela Rathana
UID:3b0791d1-5729-482e-a801-fb2ce5dbe95d
URL:https://www.liseberg.se/en/park/events/all-events/daniela-rathana/
BEGIN:VALARM
ACTION:DISPLAY
SUMMARY:Daniela Rathana
TRIGGER:-PT2H
END:VALARM
END:VEVENT
END:VCALENDAR
