BEGIN:VCALENDAR
PRODID:-//github.com/rianjs/ical.net//NONSGML ical.net 4.0//EN
VERSION:2.0
BEGIN:VEVENT
DESCRIPTION:With a mix of raw rock\, blues and a stage presence that truly
  brings the house down\, Jack White is one of the most influential artist
 s of his generation. On 10 June\, G&ouml\;teborg will have the chance to 
 experience an evening dedicated to rock.
DTEND:20260610T210000Z
DTSTAMP:20260421T053344Z
DTSTART:20260610T180000Z
SEQUENCE:0
SUMMARY:Jack White
UID:ccf0ffd5-0042-4074-8fd2-0ed041b4f182
URL:https://www.liseberg.se/en/park/events/all-events/jack-white/
BEGIN:VALARM
ACTION:DISPLAY
SUMMARY:Jack White
TRIGGER:-PT2H
END:VALARM
END:VEVENT
END:VCALENDAR
