BEGIN:VCALENDAR
PRODID:-//github.com/rianjs/ical.net//NONSGML ical.net 4.0//EN
VERSION:2.0
BEGIN:VEVENT
DESCRIPTION:Martinez blev Grammisvinnare i kategorin &rdquo\;&Aring\;rets 
 dansband&rdquo\; 2021 och bandets s&aring\;ngerska Sandra syntes i&nbsp\;
  Svt-dokument&auml\;ren "Dansbandstjejer". I sommar spelar de upp till da
 ns p&aring\; Lilla Scenen/Polketten 28 maj. &nbsp\; &nbsp\;
DTEND:20260528T200000Z
DTSTAMP:20260422T221728Z
DTSTART:20260528T170000Z
SEQUENCE:0
SUMMARY:Martinez
UID:b54d91a8-2641-414e-8af3-56ded70f0037
URL:https://www.liseberg.se/parken/evenemang/alla/martinez/
BEGIN:VALARM
ACTION:DISPLAY
SUMMARY:Martinez
TRIGGER:-PT2H
END:VALARM
END:VEVENT
END:VCALENDAR
