BEGIN:VCALENDAR
PRODID:-//github.com/rianjs/ical.net//NONSGML ical.net 4.0//EN
VERSION:2.0
BEGIN:VEVENT
DESCRIPTION:Den amerikanska countrystj&auml\;rnan Brad Paisley &aring\;ter
 v&auml\;nder till Liseberg f&ouml\;r en efterl&auml\;ngtad konsert p&arin
 g\; Stora Scenen den 17 juni 2026. Det blir andra g&aring\;ngen superstj&
 auml\;rnan bes&ouml\;ker n&ouml\;jesparken och fansen kan se fram emot en
  kv&auml\;ll fylld av hits\, gitarrmagi och &auml\;kta Nashville-st&auml\
 ;mning.
DTEND:20260617T210000Z
DTSTAMP:20260420T235034Z
DTSTART:20260617T180000Z
SEQUENCE:0
SUMMARY:Brad Paisley
UID:a010b296-09af-4a5d-b80c-17ac9ae55d59
URL:https://www.liseberg.se/parken/evenemang/alla/brad-paisley/
BEGIN:VALARM
ACTION:DISPLAY
SUMMARY:Brad Paisley
TRIGGER:-PT2H
END:VALARM
END:VEVENT
END:VCALENDAR
