BEGIN:VCALENDAR
PRODID:-//github.com/rianjs/ical.net//NONSGML ical.net 4.0//EN
VERSION:2.0
BEGIN:VEVENT
DESCRIPTION:Med od&ouml\;dliga hits som Never Gonna give you up och Togeth
 er forever &auml\;r v&auml\;rldstj&auml\;rnan Rick Astley utan tvekan en 
 av historiens st&ouml\;rsta popikoner. Och den 22 maj 2026 intar han Stor
 a Scenen p&aring\; Liseberg f&ouml\;r en kv&auml\;ll fylld av nostalgipop
 \, energi och total musikfest.&nbsp\;
DTEND:20260522T210000Z
DTSTAMP:20260421T013503Z
DTSTART:20260522T180000Z
SEQUENCE:0
SUMMARY:Rick Astley
UID:3db34305-a918-41ac-a9f1-ca0395e56b5b
URL:https://www.liseberg.se/parken/evenemang/alla/rick-astley/
BEGIN:VALARM
ACTION:DISPLAY
SUMMARY:Rick Astley
TRIGGER:-PT2H
END:VALARM
END:VEVENT
END:VCALENDAR
