BEGIN:VCALENDAR
PRODID:-//github.com/rianjs/ical.net//NONSGML ical.net 4.0//EN
VERSION:2.0
BEGIN:VEVENT
DESCRIPTION:K-POP LIVE! Zaphira X ger s&aring\;ng\, dans och girl power.
DTEND:20261107T150000Z
DTSTAMP:20260420T050200Z
DTSTART:20261107T120000Z
LOCATION:Lisebergsteatern
SEQUENCE:0
SUMMARY:Zaphira X - The Ultimate K-POP Perfomance
UID:43f45609-dd53-4de5-aff2-1b5c305fbb0a
URL:https://www.liseberg.se/parken/evenemang/alla/zaphirax-the-ultimate-k-
 pop-performance/
BEGIN:VALARM
ACTION:DISPLAY
SUMMARY:Zaphira X - The Ultimate K-POP Perfomance
TRIGGER:-PT2H
END:VALARM
END:VEVENT
END:VCALENDAR
