BEGIN:VCALENDAR
PRODID:-//github.com/rianjs/ical.net//NONSGML ical.net 4.0//EN
VERSION:2.0
BEGIN:VEVENT
DESCRIPTION:Med &ouml\;ver 50 miljarder streams\, otaliga hits och en karr
 i&auml\;r som st&auml\;ndigt utmanar gr&auml\;nserna mellan genrer\, &aum
 l\;r Halsey en av de mest eftertraktade namnen p&aring\; den globala musi
 kscenen. Den 16 juni kommer hon till Liseberg f&ouml\;r en exklusiv konse
 rt p&aring\; Stora Scenen.
DTEND:20260616T220000Z
DTSTAMP:20260422T054222Z
DTSTART:20260616T190000Z
SEQUENCE:0
SUMMARY:Halsey
UID:7f322ba6-b019-4de5-b5fd-5759deb61d95
URL:https://www.liseberg.se/parken/evenemang/alla/halsey/
BEGIN:VALARM
ACTION:DISPLAY
SUMMARY:Halsey
TRIGGER:-PT2H
END:VALARM
END:VEVENT
END:VCALENDAR
