BEGIN:VCALENDAR
PRODID:-//github.com/rianjs/ical.net//NONSGML ical.net 4.0//EN
VERSION:2.0
BEGIN:VEVENT
DESCRIPTION:Den 28 maj intar Seinabo Sey Stora Scenen p&aring\; Liseberg. 
 Med sin s&auml\;regna r&ouml\;st\, emotionella uttryck och ett sound som 
 r&ouml\;r sig mellan soul\, pop och elektroniska inslag &auml\;r hon inte
  bara h&ouml\;gt uppskattad i Sverige\, utan &auml\;ven en internationell
 t etablerad artist.
DTEND:20260528T210000Z
DTSTAMP:20260425T185058Z
DTSTART:20260528T180000Z
SEQUENCE:0
SUMMARY:Seinabo Sey
UID:e459c407-779c-4141-8296-bf83c52f5673
URL:https://www.liseberg.se/parken/evenemang/alla/seinabo-sey/
BEGIN:VALARM
ACTION:DISPLAY
SUMMARY:Seinabo Sey
TRIGGER:-PT2H
END:VALARM
END:VEVENT
END:VCALENDAR
