BEGIN:VCALENDAR
PRODID:-//github.com/rianjs/ical.net//NONSGML ical.net 4.0//EN
VERSION:2.0
BEGIN:VEVENT
DESCRIPTION:Den hyllade norrl&auml\;ndska duon Hooja &aring\;terv&auml\;nd
 er till Liseberg och kliver upp p&aring\; Stora Scenen den 4 september. M
 ed sitt explosiva &rdquo\;skogsdisco&rdquo\;-sound och en av Sveriges mes
 t dedikerade fanbases v&auml\;ntar en av sommarens mest energifyllda kv&a
 uml\;llar i parken.
DTEND:20260904T210000Z
DTSTAMP:20260419T153248Z
DTSTART:20260904T180000Z
SEQUENCE:0
SUMMARY:Hooja
UID:ec0918e1-f23b-4f55-8ea2-53d92ef2d2b9
URL:https://www.liseberg.se/parken/evenemang/alla/hooja/
BEGIN:VALARM
ACTION:DISPLAY
SUMMARY:Hooja
TRIGGER:-PT2H
END:VALARM
END:VEVENT
END:VCALENDAR
