BEGIN:VCALENDAR
PRODID:-//github.com/rianjs/ical.net//NONSGML ical.net 4.0//EN
VERSION:2.0
BEGIN:VEVENT
DESCRIPTION:Scarlet bjuder p&aring\; sin kraftfulla blandning av m&ouml\;r
 k pop och teatral rock. Duon &auml\;r k&auml\;nda f&ouml\;r sin intensite
 t\, sin visuella estetik och sin f&ouml\;rm&aring\;ga att skapa en unik s
 t&auml\;mning p&aring\; scen. Dolly Style bjuder p&aring\; f&auml\;rgspra
 kande popgl&auml\;dje och maximalism. Med sin ikoniska stil\, virala hits
  och energifyllda liveframtr&auml\;danden lovar de en show som passar hel
 a familjen.&nbsp\;
DTEND:20260531T170000Z
DTSTAMP:20260422T180744Z
DTSTART:20260531T140000Z
SEQUENCE:0
SUMMARY:Scarlet & Dolly Style
UID:97ccc2e3-55d4-49c6-9c95-bb4f119fe8b0
URL:https://www.liseberg.se/parken/evenemang/alla/scarlet-och-dolly-style/
BEGIN:VALARM
ACTION:DISPLAY
SUMMARY:Scarlet & Dolly Style
TRIGGER:-PT2H
END:VALARM
END:VEVENT
END:VCALENDAR
