BEGIN:VCALENDAR
PRODID:-//github.com/rianjs/ical.net//NONSGML ical.net 4.0//EN
VERSION:2.0
BEGIN:VEVENT
DESCRIPTION:Fr&aring\;n Eurovisionscenen i v&aring\;r d&auml\;r hon repres
 enterar Sverige\, till G&ouml\;teborg och Stora Scenen. Med sin moderna p
 op\, starka r&ouml\;st och l&aring\;tar som redan gjort avtryck p&aring\;
  streamingtopparna kombinerar Felicia personliga texter med smart produkt
 ion och ett sj&auml\;lvs&auml\;kert scenspr&aring\;k som g&ouml\;r henne 
 till en av landets mest lovande unga artister.
DTEND:20260607T170000Z
DTSTAMP:20260422T180327Z
DTSTART:20260607T140000Z
SEQUENCE:0
SUMMARY:Felicia
UID:b61bb477-643a-4cc7-aa51-386855d654a5
URL:https://www.liseberg.se/parken/evenemang/alla/felicia/
BEGIN:VALARM
ACTION:DISPLAY
SUMMARY:Felicia
TRIGGER:-PT2H
END:VALARM
END:VEVENT
END:VCALENDAR
