BEGIN:VCALENDAR
PRODID:-//github.com/rianjs/ical.net//NONSGML ical.net 4.0//EN
VERSION:2.0
BEGIN:VEVENT
DESCRIPTION:Med Lordi blir det explosiv h&aring\;rdrock n&auml\;r Lordi &a
 ring\;terv&auml\;nder med sina ikoniska monsterkostymer och sin spektakul
 &auml\;ra show. 2026 &auml\;r det 20-&aring\;rsjubileum f&ouml\;r den sto
 ra Eurovision-vinsten och sedan dess har bandet turnerat v&auml\;rlden &o
 uml\;ver och &auml\;r k&auml\;nda f&ouml\;r sina m&auml\;ktiga refr&auml\
 ;nger\, pyroteknik och sin unika teaterrock.
DTEND:20260628T170000Z
DTSTAMP:20260422T180530Z
DTSTART:20260628T140000Z
SEQUENCE:0
SUMMARY:Lordi
UID:e98f4dfd-c813-420a-98e8-4144403f9e86
URL:https://www.liseberg.se/parken/evenemang/alla/lordi/
BEGIN:VALARM
ACTION:DISPLAY
SUMMARY:Lordi
TRIGGER:-PT2H
END:VALARM
END:VEVENT
END:VCALENDAR
