BEGIN:VCALENDAR
PRODID:-//github.com/rianjs/ical.net//NONSGML ical.net 4.0//EN
VERSION:2.0
BEGIN:VEVENT
DESCRIPTION:Medina bjuder p&aring\; sin hyllade mix av latinorytmer\, pop 
 och explosiv festenergi &ndash\; ett sound som gjort dem till en publikfa
 vorit. Med flera av Sveriges st&ouml\;rsta sommarhits i bagaget garantera
 r duon en konsert som sprakar av dans\, alls&aring\;ng och ren eufori.&nb
 sp\;&nbsp\; Brandsta City Sl&auml\;ckers kommer till Stora Scenen med sin
  charmiga mix av rock\, schlager och nostalgiska hits. Med senaste hitl&a
 ring\;ten &rdquo\;Rakt in i elden&rdquo\; i spetsen levererar de alltid e
 n varm och publikfriande show.
DTEND:20260802T170000Z
DTSTAMP:20260422T180151Z
DTSTART:20260802T140000Z
SEQUENCE:0
SUMMARY:Medina & Brandsta City Släckers
UID:c796bb44-d8f6-4439-829f-bbae96c11fd5
URL:https://www.liseberg.se/parken/evenemang/alla/medina-och-brandsta-city
 -slackers/
BEGIN:VALARM
ACTION:DISPLAY
SUMMARY:Medina & Brandsta City Släckers
TRIGGER:-PT2H
END:VALARM
END:VEVENT
END:VCALENDAR
